BEGIN:VCALENDAR
VERSION:2.0
PRODID:-//https://calenda-formation.labocleo.org
X-WR-CALNAME:Calenda
X-WR-TIMEZONE:Europe/Paris
CALSCALE:GREGORIAN
X-WR-CALDESC:The calendar for arts, humanities and social sciences
METHOD:PUBLISH
BEGIN:VEVENT
DTSTART;VALUE=DATE:20101205
DTEND;VALUE=DATE:20101206
UID:202450-20101205@calenda.revues.org
SUMMARY:War and Recognition
URL:https://calenda-formation.labocleo.org/202450
DESCRIPTION:Les théories de la reconnaissance ont thématisé la « lutte pour la reconnaissance » dans des travaux philosophiques (A. Honneth)\, sociologiques (E. Goffman\, A. Pizzorno)\, politistes (P. Braud) et « constructivistes » (A. Wendt\, E. Ringmar). Mais si e… @plus_info https://calenda-formation.labocleo.org/202450
LOCATION:
END:VEVENT
END:VCALENDAR
