BEGIN:VCALENDAR
VERSION:2.0
PRODID:-//https://calenda-formation.labocleo.org
X-WR-CALNAME:Calenda
X-WR-TIMEZONE:Europe/Paris
CALSCALE:GREGORIAN
X-WR-CALDESC:The calendar for arts, humanities and social sciences
METHOD:PUBLISH
BEGIN:VEVENT
DTSTART;VALUE=DATE:20110225
DTEND;VALUE=DATE:20110226
UID:202519-20110225@calenda.revues.org
SUMMARY:Slavery in Medieval and Modern Times
URL:https://calenda-formation.labocleo.org/202519
DESCRIPTION:Dans le cadre du programme EURESCL (septième PCRD)\, l'École des hautes études hispaniques et ibériques (Casa de Velázquez\, Madrid) et l'Instituto de Historia Simancas organisent une semaine d'étude sur le thème : « L'esclavage aux époques médiévale e… @plus_info https://calenda-formation.labocleo.org/202519
LOCATION:Valladolid
END:VEVENT
BEGIN:VEVENT
DTSTART;VALUE=DATE:20110221
DTEND;VALUE=DATE:20110222
UID:202519-20110221@calenda.revues.org
SUMMARY:Slavery in Medieval and Modern Times
URL:https://calenda-formation.labocleo.org/202519
DESCRIPTION:Dans le cadre du programme EURESCL (septième PCRD)\, l'École des hautes études hispaniques et ibériques (Casa de Velázquez\, Madrid) et l'Instituto de Historia Simancas organisent une semaine d'étude sur le thème : « L'esclavage aux époques médiévale e… @plus_info https://calenda-formation.labocleo.org/202519
LOCATION:Valladolid
END:VEVENT
BEGIN:VEVENT
DTSTART;VALUE=DATE:20110222
DTEND;VALUE=DATE:20110223
UID:202519-20110222@calenda.revues.org
SUMMARY:Slavery in Medieval and Modern Times
URL:https://calenda-formation.labocleo.org/202519
DESCRIPTION:Dans le cadre du programme EURESCL (septième PCRD)\, l'École des hautes études hispaniques et ibériques (Casa de Velázquez\, Madrid) et l'Instituto de Historia Simancas organisent une semaine d'étude sur le thème : « L'esclavage aux époques médiévale e… @plus_info https://calenda-formation.labocleo.org/202519
LOCATION:Valladolid
END:VEVENT
BEGIN:VEVENT
DTSTART;VALUE=DATE:20110223
DTEND;VALUE=DATE:20110224
UID:202519-20110223@calenda.revues.org
SUMMARY:Slavery in Medieval and Modern Times
URL:https://calenda-formation.labocleo.org/202519
DESCRIPTION:Dans le cadre du programme EURESCL (septième PCRD)\, l'École des hautes études hispaniques et ibériques (Casa de Velázquez\, Madrid) et l'Instituto de Historia Simancas organisent une semaine d'étude sur le thème : « L'esclavage aux époques médiévale e… @plus_info https://calenda-formation.labocleo.org/202519
LOCATION:Valladolid
END:VEVENT
BEGIN:VEVENT
DTSTART;VALUE=DATE:20110224
DTEND;VALUE=DATE:20110225
UID:202519-20110224@calenda.revues.org
SUMMARY:Slavery in Medieval and Modern Times
URL:https://calenda-formation.labocleo.org/202519
DESCRIPTION:Dans le cadre du programme EURESCL (septième PCRD)\, l'École des hautes études hispaniques et ibériques (Casa de Velázquez\, Madrid) et l'Instituto de Historia Simancas organisent une semaine d'étude sur le thème : « L'esclavage aux époques médiévale e… @plus_info https://calenda-formation.labocleo.org/202519
LOCATION:Valladolid
END:VEVENT
END:VCALENDAR
