BEGIN:VCALENDAR
VERSION:2.0
PRODID:-//https://calenda-formation.labocleo.org
X-WR-CALNAME:Calenda
X-WR-TIMEZONE:Europe/Paris
CALSCALE:GREGORIAN
X-WR-CALDESC:The calendar for arts, humanities and social sciences
METHOD:PUBLISH
BEGIN:VEVENT
DTSTART;VALUE=DATE:20101203
DTEND;VALUE=DATE:20101204
UID:202539-20101203@calenda.revues.org
SUMMARY:The Expulsions of Religious Minorities in Latin Europe. 13th-18th Centuries
URL:https://calenda-formation.labocleo.org/202539
DESCRIPTION:Ce colloque a pour objet d'étudier les expulsions de minorités religieuses comme un phénomène global\, sur la longue durée (XIIIe - XVIIIe siècle) dans l'Europe latine\, afin de mettre en évidence la récurrence du phénomène à des échelles diverses. On … @plus_info https://calenda-formation.labocleo.org/202539
LOCATION:Créteil
END:VEVENT
BEGIN:VEVENT
DTSTART;VALUE=DATE:20101204
DTEND;VALUE=DATE:20101205
UID:202539-20101204@calenda.revues.org
SUMMARY:The Expulsions of Religious Minorities in Latin Europe. 13th-18th Centuries
URL:https://calenda-formation.labocleo.org/202539
DESCRIPTION:Ce colloque a pour objet d'étudier les expulsions de minorités religieuses comme un phénomène global\, sur la longue durée (XIIIe - XVIIIe siècle) dans l'Europe latine\, afin de mettre en évidence la récurrence du phénomène à des échelles diverses. On … @plus_info https://calenda-formation.labocleo.org/202539
LOCATION:Créteil
END:VEVENT
END:VCALENDAR
