BEGIN:VCALENDAR
VERSION:2.0
PRODID:-//https://calenda-formation.labocleo.org
X-WR-CALNAME:Calenda
X-WR-TIMEZONE:Europe/Paris
CALSCALE:GREGORIAN
X-WR-CALDESC:Le calendrier des lettres et sciences humaines et sociales
METHOD:PUBLISH
BEGIN:VEVENT
DTSTART;VALUE=DATE:20101202
DTEND;VALUE=DATE:20101203
UID:202543-20101202@calenda.revues.org
SUMMARY:Les écritures mises au jour sur le site antique d'Ougarit (Syrie) et leur déchiffrement
URL:https://calenda-formation.labocleo.org/202543
DESCRIPTION:À l’automne 1930\, les efforts conjugués de Hans Bauer\, Edouard Dhorme et Charles Virolleaud aboutissaient au déchiffrement d’un nouveau système d’écriture cunéiforme alphabétique. Celui-ci était apparu sur des tablettes d’argile mises au jour à parti… @plus_info https://calenda-formation.labocleo.org/202543
LOCATION:Paris\, Paris
END:VEVENT
BEGIN:VEVENT
DTSTART;VALUE=DATE:20101203
DTEND;VALUE=DATE:20101204
UID:202543-20101203@calenda.revues.org
SUMMARY:Les écritures mises au jour sur le site antique d'Ougarit (Syrie) et leur déchiffrement
URL:https://calenda-formation.labocleo.org/202543
DESCRIPTION:À l’automne 1930\, les efforts conjugués de Hans Bauer\, Edouard Dhorme et Charles Virolleaud aboutissaient au déchiffrement d’un nouveau système d’écriture cunéiforme alphabétique. Celui-ci était apparu sur des tablettes d’argile mises au jour à parti… @plus_info https://calenda-formation.labocleo.org/202543
LOCATION:Paris\, Paris
END:VEVENT
END:VCALENDAR
