BEGIN:VCALENDAR
VERSION:2.0
PRODID:-//https://calenda-formation.labocleo.org
X-WR-CALNAME:Calenda
X-WR-TIMEZONE:Europe/Paris
CALSCALE:GREGORIAN
X-WR-CALDESC:The calendar for arts, humanities and social sciences
METHOD:PUBLISH
BEGIN:VEVENT
DTSTART;VALUE=DATE:20101210
DTEND;VALUE=DATE:20101211
UID:202565-20101210@calenda.revues.org
SUMMARY:Jewish Life at the Start of the 20th Century: Around Jean-Richard Bloch
URL:https://calenda-formation.labocleo.org/202565
DESCRIPTION:Autour de la figure de l’écrivain Jean-Richard Bloch (1884-1947)\, cette journée d’études entend explorer divers modes d’être juif dans la modernité du premier vingtième siècle.  Dans un premier temps\, les communications présentées mettront en valeur … @plus_info https://calenda-formation.labocleo.org/202565
LOCATION:Paris
END:VEVENT
END:VCALENDAR
