BEGIN:VCALENDAR
VERSION:2.0
PRODID:-//https://calenda-formation.labocleo.org
X-WR-CALNAME:Calenda
X-WR-TIMEZONE:Europe/Paris
CALSCALE:GREGORIAN
X-WR-CALDESC:Le calendrier des lettres et sciences humaines et sociales
METHOD:PUBLISH
BEGIN:VEVENT
DTSTART;VALUE=DATE:20101119
DTEND;VALUE=DATE:20101120
UID:202573-20101119@calenda.revues.org
SUMMARY:Rôles et valeurs du Menzuma : panégyriques islamiques en Éthiopie et dans la Corne de l'Afrique
URL:https://calenda-formation.labocleo.org/202573
DESCRIPTION:The songs of praise called menzuma\, sung by a soloist accompanied by a choir and percussion are popular all over the Muslim areas of Ethiopia where the practice of Sufi Islam is still well rooted. The purposes of this workshop are many : to study Men… @plus_info https://calenda-formation.labocleo.org/202573
LOCATION:Addis-Abeba
END:VEVENT
BEGIN:VEVENT
DTSTART;VALUE=DATE:20101120
DTEND;VALUE=DATE:20101121
UID:202573-20101120@calenda.revues.org
SUMMARY:Rôles et valeurs du Menzuma : panégyriques islamiques en Éthiopie et dans la Corne de l'Afrique
URL:https://calenda-formation.labocleo.org/202573
DESCRIPTION:The songs of praise called menzuma\, sung by a soloist accompanied by a choir and percussion are popular all over the Muslim areas of Ethiopia where the practice of Sufi Islam is still well rooted. The purposes of this workshop are many : to study Men… @plus_info https://calenda-formation.labocleo.org/202573
LOCATION:Addis-Abeba
END:VEVENT
END:VCALENDAR
