BEGIN:VCALENDAR
VERSION:2.0
PRODID:-//https://calenda-formation.labocleo.org
X-WR-CALNAME:Calenda
X-WR-TIMEZONE:Europe/Paris
CALSCALE:GREGORIAN
X-WR-CALDESC:Le calendrier des lettres et sciences humaines et sociales
METHOD:PUBLISH
BEGIN:VEVENT
DTSTART;VALUE=DATE:20101213
DTEND;VALUE=DATE:20101214
UID:202581-20101213@calenda.revues.org
SUMMARY:Projets culturels et pratiques culturelles habitantes : conditions et enjeux d'une réciprocité
URL:https://calenda-formation.labocleo.org/202581
DESCRIPTION:La culture et l’art représentent des leviers importants dans les processus de développement social urbain\, autant par les capacités d’épanouissement personnel et collectif\, que par les enjeux de reconnaissances citoyenne et identitaire qu’ils recouvr… Weitere Informationen https://calenda-formation.labocleo.org/202581
LOCATION:Cergy
END:VEVENT
END:VCALENDAR
