BEGIN:VCALENDAR
VERSION:2.0
PRODID:-//https://calenda-formation.labocleo.org
X-WR-CALNAME:Calenda
X-WR-TIMEZONE:Europe/Paris
CALSCALE:GREGORIAN
X-WR-CALDESC:The calendar for arts, humanities and social sciences
METHOD:PUBLISH
BEGIN:VEVENT
DTSTART;VALUE=DATE:20101220
DTEND;VALUE=DATE:20101221
UID:202610-20101220@calenda.revues.org
SUMMARY:At the Borders of Religion: New Terrains\, New Interpretations
URL:https://calenda-formation.labocleo.org/202610
DESCRIPTION:Comment définir les limites de ce qui est religieux et de ce qui ne l’est pas en fonction de chaque terrain ? Quels cadres théoriques peuvent alors être opératoires ?  Comment penser l’écart entre les conceptions du religieux des acteurs et celles ex… @plus_info https://calenda-formation.labocleo.org/202610
LOCATION:Paris
END:VEVENT
END:VCALENDAR
