BEGIN:VCALENDAR
VERSION:2.0
PRODID:-//https://calenda-formation.labocleo.org
X-WR-CALNAME:Calenda
X-WR-TIMEZONE:Europe/Paris
CALSCALE:GREGORIAN
X-WR-CALDESC:Le calendrier des lettres et sciences humaines et sociales
METHOD:PUBLISH
BEGIN:VEVENT
DTSTART;VALUE=DATE:20110131
DTEND;VALUE=DATE:20110201
UID:202626-20110131@calenda.revues.org
SUMMARY:Penser les métissages : pratiques\, acteurs\, concepts
URL:https://calenda-formation.labocleo.org/202626
DESCRIPTION:Le terme de « métissage » est présent dans les discours politiques\, selon des usages variés\, tout comme dans le langage quotidien. Mais le mot est aussi un concept de sciences sociales\, débattu en anthropologie et en sociologie\, d’usage plus flou en … Weitere Informationen https://calenda-formation.labocleo.org/202626
LOCATION:Villetaneuse
END:VEVENT
END:VCALENDAR
