BEGIN:VCALENDAR
VERSION:2.0
PRODID:-//https://calenda-formation.labocleo.org
X-WR-CALNAME:Calenda
X-WR-TIMEZONE:Europe/Paris
CALSCALE:GREGORIAN
X-WR-CALDESC:Le calendrier des lettres et sciences humaines et sociales
METHOD:PUBLISH
BEGIN:VEVENT
DTSTART;VALUE=DATE:20110616
DTEND;VALUE=DATE:20110617
UID:202659-20110616@calenda.revues.org
SUMMARY:Récits\, pratiques sociales et construction de soi  (2010-2011)
URL:https://calenda-formation.labocleo.org/202659
DESCRIPTION:UMR TELEMME\, Programme 4 « Récits\, pratiques sociales et construction de soi ». Groupe GeFeM (genre\, femmes\, Méditerranée\, MMSH-TELEMME\, Aix-en-Provence). Calendrier de l’année 2010-2011.… Weitere Informationen https://calenda-formation.labocleo.org/202659
LOCATION:Aix-en-Provence
END:VEVENT
BEGIN:VEVENT
DTSTART;VALUE=DATE:20110519
DTEND;VALUE=DATE:20110520
UID:202659-20110519@calenda.revues.org
SUMMARY:Récits\, pratiques sociales et construction de soi  (2010-2011)
URL:https://calenda-formation.labocleo.org/202659
DESCRIPTION:UMR TELEMME\, Programme 4 « Récits\, pratiques sociales et construction de soi ». Groupe GeFeM (genre\, femmes\, Méditerranée\, MMSH-TELEMME\, Aix-en-Provence). Calendrier de l’année 2010-2011.… Weitere Informationen https://calenda-formation.labocleo.org/202659
LOCATION:Aix-en-Provence
END:VEVENT
BEGIN:VEVENT
DTSTART;VALUE=DATE:20110414
DTEND;VALUE=DATE:20110415
UID:202659-20110414@calenda.revues.org
SUMMARY:Récits\, pratiques sociales et construction de soi  (2010-2011)
URL:https://calenda-formation.labocleo.org/202659
DESCRIPTION:UMR TELEMME\, Programme 4 « Récits\, pratiques sociales et construction de soi ». Groupe GeFeM (genre\, femmes\, Méditerranée\, MMSH-TELEMME\, Aix-en-Provence). Calendrier de l’année 2010-2011.… Weitere Informationen https://calenda-formation.labocleo.org/202659
LOCATION:Aix-en-Provence
END:VEVENT
BEGIN:VEVENT
DTSTART;VALUE=DATE:20110330
DTEND;VALUE=DATE:20110331
UID:202659-20110330@calenda.revues.org
SUMMARY:Récits\, pratiques sociales et construction de soi  (2010-2011)
URL:https://calenda-formation.labocleo.org/202659
DESCRIPTION:UMR TELEMME\, Programme 4 « Récits\, pratiques sociales et construction de soi ». Groupe GeFeM (genre\, femmes\, Méditerranée\, MMSH-TELEMME\, Aix-en-Provence). Calendrier de l’année 2010-2011.… Weitere Informationen https://calenda-formation.labocleo.org/202659
LOCATION:Aix-en-Provence
END:VEVENT
BEGIN:VEVENT
DTSTART;VALUE=DATE:20110324
DTEND;VALUE=DATE:20110325
UID:202659-20110324@calenda.revues.org
SUMMARY:Récits\, pratiques sociales et construction de soi  (2010-2011)
URL:https://calenda-formation.labocleo.org/202659
DESCRIPTION:UMR TELEMME\, Programme 4 « Récits\, pratiques sociales et construction de soi ». Groupe GeFeM (genre\, femmes\, Méditerranée\, MMSH-TELEMME\, Aix-en-Provence). Calendrier de l’année 2010-2011.… Weitere Informationen https://calenda-formation.labocleo.org/202659
LOCATION:Aix-en-Provence
END:VEVENT
BEGIN:VEVENT
DTSTART;VALUE=DATE:20110217
DTEND;VALUE=DATE:20110218
UID:202659-20110217@calenda.revues.org
SUMMARY:Récits\, pratiques sociales et construction de soi  (2010-2011)
URL:https://calenda-formation.labocleo.org/202659
DESCRIPTION:UMR TELEMME\, Programme 4 « Récits\, pratiques sociales et construction de soi ». Groupe GeFeM (genre\, femmes\, Méditerranée\, MMSH-TELEMME\, Aix-en-Provence). Calendrier de l’année 2010-2011.… Weitere Informationen https://calenda-formation.labocleo.org/202659
LOCATION:Aix-en-Provence
END:VEVENT
BEGIN:VEVENT
DTSTART;VALUE=DATE:20110114
DTEND;VALUE=DATE:20110115
UID:202659-20110114@calenda.revues.org
SUMMARY:Récits\, pratiques sociales et construction de soi  (2010-2011)
URL:https://calenda-formation.labocleo.org/202659
DESCRIPTION:UMR TELEMME\, Programme 4 « Récits\, pratiques sociales et construction de soi ». Groupe GeFeM (genre\, femmes\, Méditerranée\, MMSH-TELEMME\, Aix-en-Provence). Calendrier de l’année 2010-2011.… Weitere Informationen https://calenda-formation.labocleo.org/202659
LOCATION:Aix-en-Provence
END:VEVENT
BEGIN:VEVENT
DTSTART;VALUE=DATE:20110113
DTEND;VALUE=DATE:20110114
UID:202659-20110113@calenda.revues.org
SUMMARY:Récits\, pratiques sociales et construction de soi  (2010-2011)
URL:https://calenda-formation.labocleo.org/202659
DESCRIPTION:UMR TELEMME\, Programme 4 « Récits\, pratiques sociales et construction de soi ». Groupe GeFeM (genre\, femmes\, Méditerranée\, MMSH-TELEMME\, Aix-en-Provence). Calendrier de l’année 2010-2011.… Weitere Informationen https://calenda-formation.labocleo.org/202659
LOCATION:Aix-en-Provence
END:VEVENT
BEGIN:VEVENT
DTSTART;VALUE=DATE:20101118
DTEND;VALUE=DATE:20101119
UID:202659-20101118@calenda.revues.org
SUMMARY:Récits\, pratiques sociales et construction de soi  (2010-2011)
URL:https://calenda-formation.labocleo.org/202659
DESCRIPTION:UMR TELEMME\, Programme 4 « Récits\, pratiques sociales et construction de soi ». Groupe GeFeM (genre\, femmes\, Méditerranée\, MMSH-TELEMME\, Aix-en-Provence). Calendrier de l’année 2010-2011.… Weitere Informationen https://calenda-formation.labocleo.org/202659
LOCATION:Aix-en-Provence
END:VEVENT
BEGIN:VEVENT
DTSTART;VALUE=DATE:20101021
DTEND;VALUE=DATE:20101022
UID:202659-20101021@calenda.revues.org
SUMMARY:Récits\, pratiques sociales et construction de soi  (2010-2011)
URL:https://calenda-formation.labocleo.org/202659
DESCRIPTION:UMR TELEMME\, Programme 4 « Récits\, pratiques sociales et construction de soi ». Groupe GeFeM (genre\, femmes\, Méditerranée\, MMSH-TELEMME\, Aix-en-Provence). Calendrier de l’année 2010-2011.… Weitere Informationen https://calenda-formation.labocleo.org/202659
LOCATION:Aix-en-Provence
END:VEVENT
BEGIN:VEVENT
DTSTART;VALUE=DATE:20101216
DTEND;VALUE=DATE:20101217
UID:202659-20101216@calenda.revues.org
SUMMARY:Récits\, pratiques sociales et construction de soi  (2010-2011)
URL:https://calenda-formation.labocleo.org/202659
DESCRIPTION:UMR TELEMME\, Programme 4 « Récits\, pratiques sociales et construction de soi ». Groupe GeFeM (genre\, femmes\, Méditerranée\, MMSH-TELEMME\, Aix-en-Provence). Calendrier de l’année 2010-2011.… Weitere Informationen https://calenda-formation.labocleo.org/202659
LOCATION:Aix-en-Provence
END:VEVENT
END:VCALENDAR
