BEGIN:VCALENDAR
VERSION:2.0
PRODID:-//https://calenda-formation.labocleo.org
X-WR-CALNAME:Calenda
X-WR-TIMEZONE:Europe/Paris
CALSCALE:GREGORIAN
X-WR-CALDESC:The calendar for arts, humanities and social sciences
METHOD:PUBLISH
BEGIN:VEVENT
DTSTART;VALUE=DATE:20101204
DTEND;VALUE=DATE:20101205
UID:202683-20101204@calenda.revues.org
SUMMARY:II Encontro do Outono. Linha de Investigação Saberes\, Poder\, Mediações
URL:https://calenda-formation.labocleo.org/202683
DESCRIPTION:II Encontro do Outono da linha de investigação Saberes\, Poder\, Mediações do Centro em Rede de Investigação em Antropologia – Pólo Universidade do Minho.  … @plus_info https://calenda-formation.labocleo.org/202683
LOCATION:Bragança Paulista
END:VEVENT
END:VCALENDAR
