BEGIN:VCALENDAR
VERSION:2.0
PRODID:-//https://calenda-formation.labocleo.org
X-WR-CALNAME:Calenda
X-WR-TIMEZONE:Europe/Paris
CALSCALE:GREGORIAN
X-WR-CALDESC:The calendar for arts, humanities and social sciences
METHOD:PUBLISH
BEGIN:VEVENT
DTSTART;VALUE=DATE:20110112
DTEND;VALUE=DATE:20110113
UID:202754-20110112@calenda.revues.org
SUMMARY:Scholarly Groups and the Environment
URL:https://calenda-formation.labocleo.org/202754
DESCRIPTION:Écologie\, environnement\, effet de serre\, disparition d’espèces animales ou végétales... autant de thèmes qui ont envahi tous les discours. En même temps\, la communauté scientifique\, les associations\, les politiques\, les professionnels s’inquiètent\, p… @plus_info https://calenda-formation.labocleo.org/202754
LOCATION:Paris
END:VEVENT
BEGIN:VEVENT
DTSTART;VALUE=DATE:20110113
DTEND;VALUE=DATE:20110114
UID:202754-20110113@calenda.revues.org
SUMMARY:Scholarly Groups and the Environment
URL:https://calenda-formation.labocleo.org/202754
DESCRIPTION:Écologie\, environnement\, effet de serre\, disparition d’espèces animales ou végétales... autant de thèmes qui ont envahi tous les discours. En même temps\, la communauté scientifique\, les associations\, les politiques\, les professionnels s’inquiètent\, p… @plus_info https://calenda-formation.labocleo.org/202754
LOCATION:Paris
END:VEVENT
END:VCALENDAR
