BEGIN:VCALENDAR
VERSION:2.0
PRODID:-//https://calenda-formation.labocleo.org
X-WR-CALNAME:Calenda
X-WR-TIMEZONE:Europe/Paris
CALSCALE:GREGORIAN
X-WR-CALDESC:The calendar for arts, humanities and social sciences
METHOD:PUBLISH
BEGIN:VEVENT
DTSTART;VALUE=DATE:20101203
DTEND;VALUE=DATE:20101204
UID:202770-20101203@calenda.revues.org
SUMMARY:Seminário de Investigaçao do Instituto de Ciências Sociais da Universidade de Lisboa (2010-2011)
URL:https://calenda-formation.labocleo.org/202770
DESCRIPTION:Seminário de Investigaçao do Instituto de Ciências Sociais da Universidade de Lisboa.… @plus_info https://calenda-formation.labocleo.org/202770
LOCATION:Lisbon
END:VEVENT
BEGIN:VEVENT
DTSTART;VALUE=DATE:20101210
DTEND;VALUE=DATE:20101211
UID:202770-20101210@calenda.revues.org
SUMMARY:Seminário de Investigaçao do Instituto de Ciências Sociais da Universidade de Lisboa (2010-2011)
URL:https://calenda-formation.labocleo.org/202770
DESCRIPTION:Seminário de Investigaçao do Instituto de Ciências Sociais da Universidade de Lisboa.… @plus_info https://calenda-formation.labocleo.org/202770
LOCATION:Lisbon
END:VEVENT
BEGIN:VEVENT
DTSTART;VALUE=DATE:20101214
DTEND;VALUE=DATE:20101215
UID:202770-20101214@calenda.revues.org
SUMMARY:Seminário de Investigaçao do Instituto de Ciências Sociais da Universidade de Lisboa (2010-2011)
URL:https://calenda-formation.labocleo.org/202770
DESCRIPTION:Seminário de Investigaçao do Instituto de Ciências Sociais da Universidade de Lisboa.… @plus_info https://calenda-formation.labocleo.org/202770
LOCATION:Lisbon
END:VEVENT
BEGIN:VEVENT
DTSTART;VALUE=DATE:20110121
DTEND;VALUE=DATE:20110122
UID:202770-20110121@calenda.revues.org
SUMMARY:Seminário de Investigaçao do Instituto de Ciências Sociais da Universidade de Lisboa (2010-2011)
URL:https://calenda-formation.labocleo.org/202770
DESCRIPTION:Seminário de Investigaçao do Instituto de Ciências Sociais da Universidade de Lisboa.… @plus_info https://calenda-formation.labocleo.org/202770
LOCATION:Lisbon
END:VEVENT
BEGIN:VEVENT
DTSTART;VALUE=DATE:20110218
DTEND;VALUE=DATE:20110219
UID:202770-20110218@calenda.revues.org
SUMMARY:Seminário de Investigaçao do Instituto de Ciências Sociais da Universidade de Lisboa (2010-2011)
URL:https://calenda-formation.labocleo.org/202770
DESCRIPTION:Seminário de Investigaçao do Instituto de Ciências Sociais da Universidade de Lisboa.… @plus_info https://calenda-formation.labocleo.org/202770
LOCATION:Lisbon
END:VEVENT
BEGIN:VEVENT
DTSTART;VALUE=DATE:20110318
DTEND;VALUE=DATE:20110319
UID:202770-20110318@calenda.revues.org
SUMMARY:Seminário de Investigaçao do Instituto de Ciências Sociais da Universidade de Lisboa (2010-2011)
URL:https://calenda-formation.labocleo.org/202770
DESCRIPTION:Seminário de Investigaçao do Instituto de Ciências Sociais da Universidade de Lisboa.… @plus_info https://calenda-formation.labocleo.org/202770
LOCATION:Lisbon
END:VEVENT
BEGIN:VEVENT
DTSTART;VALUE=DATE:20110415
DTEND;VALUE=DATE:20110416
UID:202770-20110415@calenda.revues.org
SUMMARY:Seminário de Investigaçao do Instituto de Ciências Sociais da Universidade de Lisboa (2010-2011)
URL:https://calenda-formation.labocleo.org/202770
DESCRIPTION:Seminário de Investigaçao do Instituto de Ciências Sociais da Universidade de Lisboa.… @plus_info https://calenda-formation.labocleo.org/202770
LOCATION:Lisbon
END:VEVENT
BEGIN:VEVENT
DTSTART;VALUE=DATE:20110520
DTEND;VALUE=DATE:20110521
UID:202770-20110520@calenda.revues.org
SUMMARY:Seminário de Investigaçao do Instituto de Ciências Sociais da Universidade de Lisboa (2010-2011)
URL:https://calenda-formation.labocleo.org/202770
DESCRIPTION:Seminário de Investigaçao do Instituto de Ciências Sociais da Universidade de Lisboa.… @plus_info https://calenda-formation.labocleo.org/202770
LOCATION:Lisbon
END:VEVENT
BEGIN:VEVENT
DTSTART;VALUE=DATE:20110624
DTEND;VALUE=DATE:20110625
UID:202770-20110624@calenda.revues.org
SUMMARY:Seminário de Investigaçao do Instituto de Ciências Sociais da Universidade de Lisboa (2010-2011)
URL:https://calenda-formation.labocleo.org/202770
DESCRIPTION:Seminário de Investigaçao do Instituto de Ciências Sociais da Universidade de Lisboa.… @plus_info https://calenda-formation.labocleo.org/202770
LOCATION:Lisbon
END:VEVENT
BEGIN:VEVENT
DTSTART;VALUE=DATE:20110708
DTEND;VALUE=DATE:20110709
UID:202770-20110708@calenda.revues.org
SUMMARY:Seminário de Investigaçao do Instituto de Ciências Sociais da Universidade de Lisboa (2010-2011)
URL:https://calenda-formation.labocleo.org/202770
DESCRIPTION:Seminário de Investigaçao do Instituto de Ciências Sociais da Universidade de Lisboa.… @plus_info https://calenda-formation.labocleo.org/202770
LOCATION:Lisbon
END:VEVENT
END:VCALENDAR
