BEGIN:VCALENDAR
VERSION:2.0
PRODID:-//https://calenda-formation.labocleo.org
X-WR-CALNAME:Calenda
X-WR-TIMEZONE:Europe/Paris
CALSCALE:GREGORIAN
X-WR-CALDESC:O calendário de letras e de ciências sociais e humanas
METHOD:PUBLISH
BEGIN:VEVENT
DTSTART;VALUE=DATE:20101210
DTEND;VALUE=DATE:20101211
UID:202780-20101210@calenda.revues.org
SUMMARY:Sociologie des mouvements sociaux
URL:https://calenda-formation.labocleo.org/202780
DESCRIPTION:Le Réseau thématique « mouvement sociaux » (RT 21) de l’Association Française de Sociologie propose un séminaire permanent (4 séminaires annuels) qui donnera aux participants des éléments de réflexion\, de débat et d’analyse sur les questions relative… @plus_info https://calenda-formation.labocleo.org/202780
LOCATION:Paris
END:VEVENT
BEGIN:VEVENT
DTSTART;VALUE=DATE:20110218
DTEND;VALUE=DATE:20110219
UID:202780-20110218@calenda.revues.org
SUMMARY:Sociologie des mouvements sociaux
URL:https://calenda-formation.labocleo.org/202780
DESCRIPTION:Le Réseau thématique « mouvement sociaux » (RT 21) de l’Association Française de Sociologie propose un séminaire permanent (4 séminaires annuels) qui donnera aux participants des éléments de réflexion\, de débat et d’analyse sur les questions relative… @plus_info https://calenda-formation.labocleo.org/202780
LOCATION:Paris
END:VEVENT
BEGIN:VEVENT
DTSTART;VALUE=DATE:20110429
DTEND;VALUE=DATE:20110430
UID:202780-20110429@calenda.revues.org
SUMMARY:Sociologie des mouvements sociaux
URL:https://calenda-formation.labocleo.org/202780
DESCRIPTION:Le Réseau thématique « mouvement sociaux » (RT 21) de l’Association Française de Sociologie propose un séminaire permanent (4 séminaires annuels) qui donnera aux participants des éléments de réflexion\, de débat et d’analyse sur les questions relative… @plus_info https://calenda-formation.labocleo.org/202780
LOCATION:Paris
END:VEVENT
BEGIN:VEVENT
DTSTART;VALUE=DATE:20110603
DTEND;VALUE=DATE:20110604
UID:202780-20110603@calenda.revues.org
SUMMARY:Sociologie des mouvements sociaux
URL:https://calenda-formation.labocleo.org/202780
DESCRIPTION:Le Réseau thématique « mouvement sociaux » (RT 21) de l’Association Française de Sociologie propose un séminaire permanent (4 séminaires annuels) qui donnera aux participants des éléments de réflexion\, de débat et d’analyse sur les questions relative… @plus_info https://calenda-formation.labocleo.org/202780
LOCATION:Paris
END:VEVENT
END:VCALENDAR
