BEGIN:VCALENDAR
VERSION:2.0
PRODID:-//https://calenda-formation.labocleo.org
X-WR-CALNAME:Calenda
X-WR-TIMEZONE:Europe/Paris
CALSCALE:GREGORIAN
X-WR-CALDESC:Le calendrier des lettres et sciences humaines et sociales
METHOD:PUBLISH
BEGIN:VEVENT
DTSTART;VALUE=DATE:20110204
DTEND;VALUE=DATE:20110205
UID:202783-20110204@calenda.revues.org
SUMMARY:L’État social en Europe et au Canada : quelles logiques d’activation ?
URL:https://calenda-formation.labocleo.org/202783
DESCRIPTION:La table-ronde internationale aura pour objectif de faire le point sur les transformations récentes des politiques sociales en Europe et au Canada tant du point de vue des principes qui les gouvernent que des dispositifs qui les concrétisent ou encor… Weitere Informationen https://calenda-formation.labocleo.org/202783
LOCATION:Paris
END:VEVENT
END:VCALENDAR
