BEGIN:VCALENDAR
VERSION:2.0
PRODID:-//https://calenda-formation.labocleo.org
X-WR-CALNAME:Calenda
X-WR-TIMEZONE:Europe/Paris
CALSCALE:GREGORIAN
X-WR-CALDESC:Le calendrier des lettres et sciences humaines et sociales
METHOD:PUBLISH
BEGIN:VEVENT
DTSTART;VALUE=DATE:20110228
DTEND;VALUE=DATE:20110301
UID:203002-20110228@calenda.revues.org
SUMMARY:Nature / culture\, aller et retour
URL:https://calenda-formation.labocleo.org/203002
DESCRIPTION:Séminaire franco-allemand des jeunes chercheurs du CIERA au Moulin d’Andé 2011. Organisé en collaboration avec le KWI Essen\, ce séminaire est ouvert aux doctorants et post-doctorants de toutes les disciplines des sciences humaines et sociales. … @plus_info https://calenda-formation.labocleo.org/203002
LOCATION:Issy-les-Moulineaux
END:VEVENT
END:VCALENDAR
