BEGIN:VCALENDAR
VERSION:2.0
PRODID:-//https://calenda-formation.labocleo.org
X-WR-CALNAME:Calenda
X-WR-TIMEZONE:Europe/Paris
CALSCALE:GREGORIAN
X-WR-CALDESC:Le calendrier des lettres et sciences humaines et sociales
METHOD:PUBLISH
BEGIN:VEVENT
DTSTART;VALUE=DATE:20110126
DTEND;VALUE=DATE:20110127
UID:203004-20110126@calenda.revues.org
SUMMARY:Éthique\, messianisme et politique. Autour de Gérard Bensussan
URL:https://calenda-formation.labocleo.org/203004
DESCRIPTION:Ces journées « Éthique\, messianisme et politique » seront consacrées à la pensée de Gérard Bensussan\, philosophe contemporain\, professeur de philosophie à l'Université de Strasbourg. Dans Qu’est-ce que la philosophie juive ?\, Gérard Bensussan propose… Más informaciones https://calenda-formation.labocleo.org/203004
LOCATION:Troyes
END:VEVENT
BEGIN:VEVENT
DTSTART;VALUE=DATE:20110127
DTEND;VALUE=DATE:20110128
UID:203004-20110127@calenda.revues.org
SUMMARY:Éthique\, messianisme et politique. Autour de Gérard Bensussan
URL:https://calenda-formation.labocleo.org/203004
DESCRIPTION:Ces journées « Éthique\, messianisme et politique » seront consacrées à la pensée de Gérard Bensussan\, philosophe contemporain\, professeur de philosophie à l'Université de Strasbourg. Dans Qu’est-ce que la philosophie juive ?\, Gérard Bensussan propose… Más informaciones https://calenda-formation.labocleo.org/203004
LOCATION:Troyes
END:VEVENT
END:VCALENDAR
