BEGIN:VCALENDAR
VERSION:2.0
PRODID:-//https://calenda-formation.labocleo.org
X-WR-CALNAME:Calenda
X-WR-TIMEZONE:Europe/Paris
CALSCALE:GREGORIAN
X-WR-CALDESC:Le calendrier des lettres et sciences humaines et sociales
METHOD:PUBLISH
BEGIN:VEVENT
DTSTART;VALUE=DATE:20110221
DTEND;VALUE=DATE:20110222
UID:203055-20110221@calenda.revues.org
SUMMARY:L'amitié\, lien social et politique en France et en Allemagne\, XIIe–milieu du XIXe siècle
URL:https://calenda-formation.labocleo.org/203055
DESCRIPTION:S’adressant aux doctorants et aux post-doctorants\, quelle que soit leur spécialité\, cette université d’été souhaite réunir des chercheurs travaillant sur l’amitié sous la forme dominante qui a été la sienne durant des siècles : un lien social et poli… Weitere Informationen https://calenda-formation.labocleo.org/203055
LOCATION:Paris
END:VEVENT
END:VCALENDAR
