BEGIN:VCALENDAR
VERSION:2.0
PRODID:-//https://calenda-formation.labocleo.org
X-WR-CALNAME:Calenda
X-WR-TIMEZONE:Europe/Paris
CALSCALE:GREGORIAN
X-WR-CALDESC:Le calendrier des lettres et sciences humaines et sociales
METHOD:PUBLISH
BEGIN:VEVENT
DTSTART;VALUE=DATE:20110201
DTEND;VALUE=DATE:20110202
UID:203085-20110201@calenda.revues.org
SUMMARY:Rencontres internationales du film de chercheurs
URL:https://calenda-formation.labocleo.org/203085
DESCRIPTION:Cette rencontre faite suite au « Festival international de la vidéo de recherche sur les esclavages » initié par les programmes canadien (MCRI) européen (EURESCL-7e PCRD)\, français (CIRESC). Elle sera l'occasion de réfléchir à la fois aux différents … Weitere Informationen https://calenda-formation.labocleo.org/203085
LOCATION:Lyon
END:VEVENT
BEGIN:VEVENT
DTSTART;VALUE=DATE:20110202
DTEND;VALUE=DATE:20110203
UID:203085-20110202@calenda.revues.org
SUMMARY:Rencontres internationales du film de chercheurs
URL:https://calenda-formation.labocleo.org/203085
DESCRIPTION:Cette rencontre faite suite au « Festival international de la vidéo de recherche sur les esclavages » initié par les programmes canadien (MCRI) européen (EURESCL-7e PCRD)\, français (CIRESC). Elle sera l'occasion de réfléchir à la fois aux différents … Weitere Informationen https://calenda-formation.labocleo.org/203085
LOCATION:Lyon
END:VEVENT
BEGIN:VEVENT
DTSTART;VALUE=DATE:20110203
DTEND;VALUE=DATE:20110204
UID:203085-20110203@calenda.revues.org
SUMMARY:Rencontres internationales du film de chercheurs
URL:https://calenda-formation.labocleo.org/203085
DESCRIPTION:Cette rencontre faite suite au « Festival international de la vidéo de recherche sur les esclavages » initié par les programmes canadien (MCRI) européen (EURESCL-7e PCRD)\, français (CIRESC). Elle sera l'occasion de réfléchir à la fois aux différents … Weitere Informationen https://calenda-formation.labocleo.org/203085
LOCATION:Lyon
END:VEVENT
END:VCALENDAR
