BEGIN:VCALENDAR
VERSION:2.0
PRODID:-//https://calenda-formation.labocleo.org
X-WR-CALNAME:Calenda
X-WR-TIMEZONE:Europe/Paris
CALSCALE:GREGORIAN
X-WR-CALDESC:Le calendrier des lettres et sciences humaines et sociales
METHOD:PUBLISH
BEGIN:VEVENT
DTSTART;VALUE=DATE:20111130
DTEND;VALUE=DATE:20111201
UID:203151-20111130@calenda.revues.org
SUMMARY:Image de soi et identité à l'époque moderne
URL:https://calenda-formation.labocleo.org/203151
DESCRIPTION:Le prochain numéro de la revue Europa Moderna prévu pour 2012\, sera consacré à l'image de soi à l'époque moderne moderne\, à travers ses modes de présentation et de représentation dans une optique identitaire et d'identification\, et dans le cadre des … Weitere Informationen https://calenda-formation.labocleo.org/203151
LOCATION:
END:VEVENT
END:VCALENDAR
