BEGIN:VCALENDAR
VERSION:2.0
PRODID:-//https://calenda-formation.labocleo.org
X-WR-CALNAME:Calenda
X-WR-TIMEZONE:Europe/Paris
CALSCALE:GREGORIAN
X-WR-CALDESC:Le calendrier des lettres et sciences humaines et sociales
METHOD:PUBLISH
BEGIN:VEVENT
DTSTART;VALUE=DATE:20110216
DTEND;VALUE=DATE:20110217
UID:203153-20110216@calenda.revues.org
SUMMARY:La vacance
URL:https://calenda-formation.labocleo.org/203153
DESCRIPTION:La revue e-LLA\, revue électronique des doctorants en Langues\, lettres et arts de l'Université de Provence\, organise une journée d'étude consacrée à « La vacance ». Elle se tiendra le 16 février 2011 à l'Université de Provence\, site Schuman\, en salle … Weitere Informationen https://calenda-formation.labocleo.org/203153
LOCATION:Aix-en-Provence
END:VEVENT
END:VCALENDAR
