BEGIN:VCALENDAR
VERSION:2.0
PRODID:-//https://calenda-formation.labocleo.org
X-WR-CALNAME:Calenda
X-WR-TIMEZONE:Europe/Paris
CALSCALE:GREGORIAN
X-WR-CALDESC:The calendar for arts, humanities and social sciences
METHOD:PUBLISH
BEGIN:VEVENT
DTSTART;VALUE=DATE:20110228
DTEND;VALUE=DATE:20110301
UID:203194-20110228@calenda.revues.org
SUMMARY:Call for Applications for a Doctoral Thesis in Social Housing
URL:https://calenda-formation.labocleo.org/203194
DESCRIPTION:La Fondation Braillard Architectes à Genève met au concours une bourse consacrée à l’innovation en matière de logement social. Au terme de la première année\, la bourse est renouvelée pour trois fois un an\, sous réserve de réussite de l’examen de cand… @plus_info https://calenda-formation.labocleo.org/203194
LOCATION:Geneva
END:VEVENT
END:VCALENDAR
