BEGIN:VCALENDAR
VERSION:2.0
PRODID:-//https://calenda-formation.labocleo.org
X-WR-CALNAME:Calenda
X-WR-TIMEZONE:Europe/Paris
CALSCALE:GREGORIAN
X-WR-CALDESC:Le calendrier des lettres et sciences humaines et sociales
METHOD:PUBLISH
BEGIN:VEVENT
DTSTART;VALUE=DATE:20110224
DTEND;VALUE=DATE:20110225
UID:203198-20110224@calenda.revues.org
SUMMARY:Concours chargé de recherche (CR1) en sociologie
URL:https://calenda-formation.labocleo.org/203198
DESCRIPTION:Concours chargé de recherche (CR1) en sociologie à l'Insitut national de recherche agronomique (INRA). Profil du poste : Sociologie des risques sanitaires liés aux pesticides.  Dossier à déposer avant le 24 février 2011.… Más informaciones https://calenda-formation.labocleo.org/203198
LOCATION:
END:VEVENT
END:VCALENDAR
