BEGIN:VCALENDAR
VERSION:2.0
PRODID:-//https://calenda-formation.labocleo.org
X-WR-CALNAME:Calenda
X-WR-TIMEZONE:Europe/Paris
CALSCALE:GREGORIAN
X-WR-CALDESC:The calendar for arts, humanities and social sciences
METHOD:PUBLISH
BEGIN:VEVENT
DTSTART;VALUE=DATE:20110401
DTEND;VALUE=DATE:20110402
UID:203233-20110401@calenda.revues.org
SUMMARY:Quelle place pour les objets dans les sciences du langage et les sciences de la communication ? 
URL:https://calenda-formation.labocleo.org/203233
DESCRIPTION:Ce numéro propose de parcourir le champ encore inexploré en sciences du langage et sciences de la communication du rapport entre les discours et les objets. Nous parlons bien des objets matériels de notre univers\, qu’ils soient naturels ou culturels … @plus_info https://calenda-formation.labocleo.org/203233
LOCATION:
END:VEVENT
END:VCALENDAR
