BEGIN:VCALENDAR
VERSION:2.0
PRODID:-//https://calenda-formation.labocleo.org
X-WR-CALNAME:Calenda
X-WR-TIMEZONE:Europe/Paris
CALSCALE:GREGORIAN
X-WR-CALDESC:The calendar for arts, humanities and social sciences
METHOD:PUBLISH
BEGIN:VEVENT
DTSTART;VALUE=DATE:20110331
DTEND;VALUE=DATE:20110401
UID:203242-20110331@calenda.revues.org
SUMMARY:The Egypt of Émile Prisse d’Avennes (1807-1879)\, Artist and Antiquarian
URL:https://calenda-formation.labocleo.org/203242
DESCRIPTION:Colloque organisé en collaboration entre la Bibliothèque nationale de France (Département des manuscrits et service culturel) et l’Institut national d’histoire de l’art (laboratoire InVisu et service des manifestations et de l’édition)\, sous la respo… @plus_info https://calenda-formation.labocleo.org/203242
LOCATION:Paris
END:VEVENT
END:VCALENDAR
