BEGIN:VCALENDAR
VERSION:2.0
PRODID:-//https://calenda-formation.labocleo.org
X-WR-CALNAME:Calenda
X-WR-TIMEZONE:Europe/Paris
CALSCALE:GREGORIAN
X-WR-CALDESC:O calendário de letras e de ciências sociais e humanas
METHOD:PUBLISH
BEGIN:VEVENT
DTSTART;VALUE=DATE:20110307
DTEND;VALUE=DATE:20110308
UID:203249-20110307@calenda.revues.org
SUMMARY:La reconstitution du développement psychomoteur des hominidés fossiles
URL:https://calenda-formation.labocleo.org/203249
DESCRIPTION:Le but du séminaire vise à montrer comment reconstituer le développement psychomoteur des hominidés (système nerveux central\, postures\, motricités\, les phases d’apprentissage) et ses différentes évolutions grâce à de nouvelles passerelles entre la pa… @plus_info https://calenda-formation.labocleo.org/203249
LOCATION:Paris
END:VEVENT
BEGIN:VEVENT
DTSTART;VALUE=DATE:20110308
DTEND;VALUE=DATE:20110309
UID:203249-20110308@calenda.revues.org
SUMMARY:La reconstitution du développement psychomoteur des hominidés fossiles
URL:https://calenda-formation.labocleo.org/203249
DESCRIPTION:Le but du séminaire vise à montrer comment reconstituer le développement psychomoteur des hominidés (système nerveux central\, postures\, motricités\, les phases d’apprentissage) et ses différentes évolutions grâce à de nouvelles passerelles entre la pa… @plus_info https://calenda-formation.labocleo.org/203249
LOCATION:Paris
END:VEVENT
BEGIN:VEVENT
DTSTART;VALUE=DATE:20110309
DTEND;VALUE=DATE:20110310
UID:203249-20110309@calenda.revues.org
SUMMARY:La reconstitution du développement psychomoteur des hominidés fossiles
URL:https://calenda-formation.labocleo.org/203249
DESCRIPTION:Le but du séminaire vise à montrer comment reconstituer le développement psychomoteur des hominidés (système nerveux central\, postures\, motricités\, les phases d’apprentissage) et ses différentes évolutions grâce à de nouvelles passerelles entre la pa… @plus_info https://calenda-formation.labocleo.org/203249
LOCATION:Paris
END:VEVENT
END:VCALENDAR
