BEGIN:VCALENDAR
VERSION:2.0
PRODID:-//https://calenda-formation.labocleo.org
X-WR-CALNAME:Calenda
X-WR-TIMEZONE:Europe/Paris
CALSCALE:GREGORIAN
X-WR-CALDESC:The calendar for arts, humanities and social sciences
METHOD:PUBLISH
BEGIN:VEVENT
DTSTART;VALUE=DATE:20110223
DTEND;VALUE=DATE:20110224
UID:203250-20110223@calenda.revues.org
SUMMARY:Suburbs and periphery as laboratories of normative control
URL:https://calenda-formation.labocleo.org/203250
DESCRIPTION:Le Collectif pour le sens des autres\, le Lestamp (Laboratoire d’études sociologiques des transformations et acculturations des milieux populaires)\, la ville de Paris par le biais de Hamou Bouakkaz\, Adjoint au Maire chargé de la démocratie locale et d… @plus_info https://calenda-formation.labocleo.org/203250
LOCATION:Paris
END:VEVENT
BEGIN:VEVENT
DTSTART;VALUE=DATE:20110224
DTEND;VALUE=DATE:20110225
UID:203250-20110224@calenda.revues.org
SUMMARY:Suburbs and periphery as laboratories of normative control
URL:https://calenda-formation.labocleo.org/203250
DESCRIPTION:Le Collectif pour le sens des autres\, le Lestamp (Laboratoire d’études sociologiques des transformations et acculturations des milieux populaires)\, la ville de Paris par le biais de Hamou Bouakkaz\, Adjoint au Maire chargé de la démocratie locale et d… @plus_info https://calenda-formation.labocleo.org/203250
LOCATION:Paris
END:VEVENT
END:VCALENDAR
