BEGIN:VCALENDAR
VERSION:2.0
PRODID:-//https://calenda-formation.labocleo.org
X-WR-CALNAME:Calenda
X-WR-TIMEZONE:Europe/Paris
CALSCALE:GREGORIAN
X-WR-CALDESC:Le calendrier des lettres et sciences humaines et sociales
METHOD:PUBLISH
BEGIN:VEVENT
DTSTART;VALUE=DATE:20110415
DTEND;VALUE=DATE:20110416
UID:203255-20110415@calenda.revues.org
SUMMARY:Institutionnalisation et internationalisation des dispositifs de reconnaissance et de la validation des acquis de l’expérience
URL:https://calenda-formation.labocleo.org/203255
DESCRIPTION:Ce colloque a pour buts : - d’identifier et décrire les connaissances et les expériences relatives à la RVAE à travers différents axes thématiques. Il s’agira de s’interroger\, en termes de distance et de rupture\, sur les parcours individuels (candida… Weitere Informationen https://calenda-formation.labocleo.org/203255
LOCATION:Créteil
END:VEVENT
END:VCALENDAR
