BEGIN:VCALENDAR
VERSION:2.0
PRODID:-//https://calenda-formation.labocleo.org
X-WR-CALNAME:Calenda
X-WR-TIMEZONE:Europe/Paris
CALSCALE:GREGORIAN
X-WR-CALDESC:The calendar for arts, humanities and social sciences
METHOD:PUBLISH
BEGIN:VEVENT
DTSTART;VALUE=DATE:20110501
DTEND;VALUE=DATE:20110502
UID:203289-20110501@calenda.revues.org
SUMMARY:Tourism and the Reduction of Poverty
URL:https://calenda-formation.labocleo.org/203289
DESCRIPTION:Appel à contributions de la revue Téoros sur le tourisme comme outil de réduction de la pauvreté… @plus_info https://calenda-formation.labocleo.org/203289
LOCATION:
END:VEVENT
END:VCALENDAR
