BEGIN:VCALENDAR
VERSION:2.0
PRODID:-//https://calenda-formation.labocleo.org
X-WR-CALNAME:Calenda
X-WR-TIMEZONE:Europe/Paris
CALSCALE:GREGORIAN
X-WR-CALDESC:The calendar for arts, humanities and social sciences
METHOD:PUBLISH
BEGIN:VEVENT
DTSTART;VALUE=DATE:20110211
DTEND;VALUE=DATE:20110212
UID:203297-20110211@calenda.revues.org
SUMMARY:Pédagogie\, institution\, autorité\, émancipation
URL:https://calenda-formation.labocleo.org/203297
DESCRIPTION:La question de l’éducation est  à la fois anthropologique et politique\, renouvelée à chaque venue au monde\, à chaque génération. Anthropologique\, la question de l’éducation est celle de l’institution des enfants. Qu’institue-t-on auprès d’eux\, et com… @plus_info https://calenda-formation.labocleo.org/203297
LOCATION:Tours
END:VEVENT
END:VCALENDAR
