BEGIN:VCALENDAR
VERSION:2.0
PRODID:-//https://calenda-formation.labocleo.org
X-WR-CALNAME:Calenda
X-WR-TIMEZONE:Europe/Paris
CALSCALE:GREGORIAN
X-WR-CALDESC:Le calendrier des lettres et sciences humaines et sociales
METHOD:PUBLISH
BEGIN:VEVENT
DTSTART;VALUE=DATE:20110430
DTEND;VALUE=DATE:20110501
UID:203341-20110430@calenda.revues.org
SUMMARY:Esprit des mots et mots d'esprit
URL:https://calenda-formation.labocleo.org/203341
DESCRIPTION:Après avoir considéré les langues dans une perspective diachronique\, et les rapports entre le mot\, l'étymologie et la traduction\, le CIRHiLL (Centre interdisciplinaire de recherche en histoire\, langues et littératures) organise un colloque les jeudi … @plus_info https://calenda-formation.labocleo.org/203341
LOCATION:Angers
END:VEVENT
END:VCALENDAR
