BEGIN:VCALENDAR
VERSION:2.0
PRODID:-//https://calenda-formation.labocleo.org
X-WR-CALNAME:Calenda
X-WR-TIMEZONE:Europe/Paris
CALSCALE:GREGORIAN
X-WR-CALDESC:The calendar for arts, humanities and social sciences
METHOD:PUBLISH
BEGIN:VEVENT
DTSTART;VALUE=DATE:20111020
DTEND;VALUE=DATE:20111021
UID:203369-20111020@calenda.revues.org
SUMMARY:Agglomerations and sanctuaries
URL:https://calenda-formation.labocleo.org/203369
DESCRIPTION:L’ambition de ce colloque est de réfléchir à la question de la fonction des agglomérations à partir de la place du fait religieux. Depuis les années 1980\, les archéologues ont progressivement cherché à qualifier les formes d’habitats groupés autres q… @plus_info https://calenda-formation.labocleo.org/203369
LOCATION:Grand
END:VEVENT
BEGIN:VEVENT
DTSTART;VALUE=DATE:20111022
DTEND;VALUE=DATE:20111023
UID:203369-20111022@calenda.revues.org
SUMMARY:Agglomerations and sanctuaries
URL:https://calenda-formation.labocleo.org/203369
DESCRIPTION:L’ambition de ce colloque est de réfléchir à la question de la fonction des agglomérations à partir de la place du fait religieux. Depuis les années 1980\, les archéologues ont progressivement cherché à qualifier les formes d’habitats groupés autres q… @plus_info https://calenda-formation.labocleo.org/203369
LOCATION:Grand
END:VEVENT
BEGIN:VEVENT
DTSTART;VALUE=DATE:20111021
DTEND;VALUE=DATE:20111022
UID:203369-20111021@calenda.revues.org
SUMMARY:Agglomerations and sanctuaries
URL:https://calenda-formation.labocleo.org/203369
DESCRIPTION:L’ambition de ce colloque est de réfléchir à la question de la fonction des agglomérations à partir de la place du fait religieux. Depuis les années 1980\, les archéologues ont progressivement cherché à qualifier les formes d’habitats groupés autres q… @plus_info https://calenda-formation.labocleo.org/203369
LOCATION:Grand
END:VEVENT
BEGIN:VEVENT
DTSTART;VALUE=DATE:20111023
DTEND;VALUE=DATE:20111024
UID:203369-20111023@calenda.revues.org
SUMMARY:Agglomerations and sanctuaries
URL:https://calenda-formation.labocleo.org/203369
DESCRIPTION:L’ambition de ce colloque est de réfléchir à la question de la fonction des agglomérations à partir de la place du fait religieux. Depuis les années 1980\, les archéologues ont progressivement cherché à qualifier les formes d’habitats groupés autres q… @plus_info https://calenda-formation.labocleo.org/203369
LOCATION:Grand
END:VEVENT
END:VCALENDAR
