BEGIN:VCALENDAR
VERSION:2.0
PRODID:-//https://calenda-formation.labocleo.org
X-WR-CALNAME:Calenda
X-WR-TIMEZONE:Europe/Paris
CALSCALE:GREGORIAN
X-WR-CALDESC:Le calendrier des lettres et sciences humaines et sociales
METHOD:PUBLISH
BEGIN:VEVENT
DTSTART;VALUE=DATE:20110520
DTEND;VALUE=DATE:20110521
UID:203423-20110520@calenda.revues.org
SUMMARY:Labellisation et « mise en marque » des territoires 
URL:https://calenda-formation.labocleo.org/203423
DESCRIPTION:Ce colloque réunira des chercheurs de diverses disciplines ainsi que des acteurs pour confronter expériences et analyses scientifiques à propos de la labellisation des territoires par la culture. Nous nous interrogerons sur les représentations et les… @plus_info https://calenda-formation.labocleo.org/203423
LOCATION:Clermont-Ferrand
END:VEVENT
END:VCALENDAR
