BEGIN:VCALENDAR
VERSION:2.0
PRODID:-//https://calenda-formation.labocleo.org
X-WR-CALNAME:Calenda
X-WR-TIMEZONE:Europe/Paris
CALSCALE:GREGORIAN
X-WR-CALDESC:Le calendrier des lettres et sciences humaines et sociales
METHOD:PUBLISH
BEGIN:VEVENT
DTSTART;VALUE=DATE:20110302
DTEND;VALUE=DATE:20110303
UID:203441-20110302@calenda.revues.org
SUMMARY:Redéfinir la place centrale des collections scientifiques au Muséum : le défi du transfert des collections de paléontologie
URL:https://calenda-formation.labocleo.org/203441
DESCRIPTION:Dans la perspective du transfert des collections de paléontologie\, l’unité de gestion des collections de paléontologie poursuit une réflexion sur l’histoire de ses collections. Puisque le travail scientifique sur les spécimens nécessite aussi de disp… @plus_info https://calenda-formation.labocleo.org/203441
LOCATION:Paris
END:VEVENT
END:VCALENDAR
