BEGIN:VCALENDAR
VERSION:2.0
PRODID:-//https://calenda-formation.labocleo.org
X-WR-CALNAME:Calenda
X-WR-TIMEZONE:Europe/Paris
CALSCALE:GREGORIAN
X-WR-CALDESC:Le calendrier des lettres et sciences humaines et sociales
METHOD:PUBLISH
BEGIN:VEVENT
DTSTART;VALUE=DATE:20110331
DTEND;VALUE=DATE:20110401
UID:203455-20110331@calenda.revues.org
SUMMARY:Affectation de chargés de recherche et directeurs de recherche à la Maison française d'Oxford
URL:https://calenda-formation.labocleo.org/203455
DESCRIPTION:Postes de chercheurs CNRS (chargés de recherche ou directeurs de recherche) basés à la Maison française d'Oxford susceptibles d'être disponibles à partir de la rentrée universitaire 2011.… @plus_info https://calenda-formation.labocleo.org/203455
LOCATION:Oxford
END:VEVENT
END:VCALENDAR
