BEGIN:VCALENDAR
VERSION:2.0
PRODID:-//https://calenda-formation.labocleo.org
X-WR-CALNAME:Calenda
X-WR-TIMEZONE:Europe/Paris
CALSCALE:GREGORIAN
X-WR-CALDESC:The calendar for arts, humanities and social sciences
METHOD:PUBLISH
BEGIN:VEVENT
DTSTART;VALUE=DATE:20110630
DTEND;VALUE=DATE:20110701
UID:203481-20110630@calenda.revues.org
SUMMARY:Archéologie des nouvelles technologies
URL:https://calenda-formation.labocleo.org/203481
DESCRIPTION:Après avoir interrogé le numérique comme texture\, dans son extension pratique (n°1)\, puis la virtualité en relation au contexte de la quotidienneté (n°2)\, la revue en ligne Réel-Virtuel propose de repenser les « nouvelles technologies » à travers le … @plus_info https://calenda-formation.labocleo.org/203481
LOCATION:
END:VEVENT
END:VCALENDAR
