BEGIN:VCALENDAR
VERSION:2.0
PRODID:-//https://calenda-formation.labocleo.org
X-WR-CALNAME:Calenda
X-WR-TIMEZONE:Europe/Paris
CALSCALE:GREGORIAN
X-WR-CALDESC:The calendar for arts, humanities and social sciences
METHOD:PUBLISH
BEGIN:VEVENT
DTSTART;VALUE=DATE:20110410
DTEND;VALUE=DATE:20110411
UID:203484-20110410@calenda.revues.org
SUMMARY:Jews in the ecclesiastical\, Roman-barbarian and Byzantine law\, sixth to eleventh centuries
URL:https://calenda-formation.labocleo.org/203484
DESCRIPTION:Ce colloque sera l’occasion d’une réflexion renouvelée sur la condition juridique des juifs dans les droits alti-médiévaux et byzantin. … @plus_info https://calenda-formation.labocleo.org/203484
LOCATION:Fontevraud-l'Abbaye
END:VEVENT
END:VCALENDAR
