BEGIN:VCALENDAR
VERSION:2.0
PRODID:-//https://calenda-formation.labocleo.org
X-WR-CALNAME:Calenda
X-WR-TIMEZONE:Europe/Paris
CALSCALE:GREGORIAN
X-WR-CALDESC:Le calendrier des lettres et sciences humaines et sociales
METHOD:PUBLISH
BEGIN:VEVENT
DTSTART;VALUE=DATE:20110303
DTEND;VALUE=DATE:20110304
UID:203497-20110303@calenda.revues.org
SUMMARY:La société française dans la guerre froide
URL:https://calenda-formation.labocleo.org/203497
DESCRIPTION:L’objectif de ces rencontres est de stimuler et faciliter la recherche sur l’impact de la guerre froide sur les conditions de vie des citoyens et sur le comportement de la société civile soumise à la pression de la propagande. Notre propos est donc d… @plus_info https://calenda-formation.labocleo.org/203497
LOCATION:Fontainebleau\, Paris
END:VEVENT
BEGIN:VEVENT
DTSTART;VALUE=DATE:20110304
DTEND;VALUE=DATE:20110305
UID:203497-20110304@calenda.revues.org
SUMMARY:La société française dans la guerre froide
URL:https://calenda-formation.labocleo.org/203497
DESCRIPTION:L’objectif de ces rencontres est de stimuler et faciliter la recherche sur l’impact de la guerre froide sur les conditions de vie des citoyens et sur le comportement de la société civile soumise à la pression de la propagande. Notre propos est donc d… @plus_info https://calenda-formation.labocleo.org/203497
LOCATION:Fontainebleau\, Paris
END:VEVENT
BEGIN:VEVENT
DTSTART;VALUE=DATE:20110305
DTEND;VALUE=DATE:20110306
UID:203497-20110305@calenda.revues.org
SUMMARY:La société française dans la guerre froide
URL:https://calenda-formation.labocleo.org/203497
DESCRIPTION:L’objectif de ces rencontres est de stimuler et faciliter la recherche sur l’impact de la guerre froide sur les conditions de vie des citoyens et sur le comportement de la société civile soumise à la pression de la propagande. Notre propos est donc d… @plus_info https://calenda-formation.labocleo.org/203497
LOCATION:Fontainebleau\, Paris
END:VEVENT
END:VCALENDAR
