BEGIN:VCALENDAR
VERSION:2.0
PRODID:-//https://calenda-formation.labocleo.org
X-WR-CALNAME:Calenda
X-WR-TIMEZONE:Europe/Paris
CALSCALE:GREGORIAN
X-WR-CALDESC:The calendar for arts, humanities and social sciences
METHOD:PUBLISH
BEGIN:VEVENT
DTSTART;VALUE=DATE:20110515
DTEND;VALUE=DATE:20110516
UID:203498-20110515@calenda.revues.org
SUMMARY:The Description
URL:https://calenda-formation.labocleo.org/203498
DESCRIPTION:Le colloque organisé par l'Institut indisciplinaire\, situé à Grenoble\, portera sur les usages et finalités de la description au sein des sciences humaines. Les outils descriptifs diffèrent parfois d'une discipline à l'autre et révèlent les priorités … @plus_info https://calenda-formation.labocleo.org/203498
LOCATION:Grenoble
END:VEVENT
END:VCALENDAR
