BEGIN:VCALENDAR
VERSION:2.0
PRODID:-//https://calenda-formation.labocleo.org
X-WR-CALNAME:Calenda
X-WR-TIMEZONE:Europe/Paris
CALSCALE:GREGORIAN
X-WR-CALDESC:The calendar for arts, humanities and social sciences
METHOD:PUBLISH
BEGIN:VEVENT
DTSTART;VALUE=DATE:20110530
DTEND;VALUE=DATE:20110531
UID:203543-20110530@calenda.revues.org
SUMMARY:Writing\, Publishing\, Transmitting the Memory of Revolts and Revolutions\, 15th-18th Centuries
URL:https://calenda-formation.labocleo.org/203543
DESCRIPTION:La permanence de révoltes et de révolutions souligne l’importance des réflexions sur leur ancrage dans les mémoires collectives. Cette journée d’études se propose d’aborder la question de l’écriture de l’histoire des révoltes et des révolutions entre… @plus_info https://calenda-formation.labocleo.org/203543
LOCATION:Caen
END:VEVENT
END:VCALENDAR
