BEGIN:VCALENDAR
VERSION:2.0
PRODID:-//https://calenda-formation.labocleo.org
X-WR-CALNAME:Calenda
X-WR-TIMEZONE:Europe/Paris
CALSCALE:GREGORIAN
X-WR-CALDESC:Le calendrier des lettres et sciences humaines et sociales
METHOD:PUBLISH
BEGIN:VEVENT
DTSTART;VALUE=DATE:20110501
DTEND;VALUE=DATE:20110502
UID:203568-20110501@calenda.revues.org
SUMMARY:Journal of Scholarly and Research Communication
URL:https://calenda-formation.labocleo.org/203568
DESCRIPTION:Scholarly and Research Communication is a peer-reviewed\, interdisciplinary\, Open Access\, online journal that publishes original contributions to the understanding of production\, dissemination\, and usage of knowledge. It emphasizes the dynamics of rep… Weitere Informationen https://calenda-formation.labocleo.org/203568
LOCATION:Vancouver
END:VEVENT
END:VCALENDAR
