BEGIN:VCALENDAR
VERSION:2.0
PRODID:-//https://calenda-formation.labocleo.org
X-WR-CALNAME:Calenda
X-WR-TIMEZONE:Europe/Paris
CALSCALE:GREGORIAN
X-WR-CALDESC:The calendar for arts, humanities and social sciences
METHOD:PUBLISH
BEGIN:VEVENT
DTSTART;VALUE=DATE:20110816
DTEND;VALUE=DATE:20110817
UID:203616-20110816@calenda.revues.org
SUMMARY:Narrations d'un nouveau siècle : romans et récits français\, 2001-2010
URL:https://calenda-formation.labocleo.org/203616
DESCRIPTION:Les réalisations littéraires\, les modèles culturels\, les pratiques éditoriales ne cessent de bouger\, dans des directions et selon des logiques qu’il est souvent difficile d’appréhender. L'année 2011 semble être le moment opportun pour prendre une pre… @plus_info https://calenda-formation.labocleo.org/203616
LOCATION:Cerisy-la-Salle
END:VEVENT
BEGIN:VEVENT
DTSTART;VALUE=DATE:20110817
DTEND;VALUE=DATE:20110818
UID:203616-20110817@calenda.revues.org
SUMMARY:Narrations d'un nouveau siècle : romans et récits français\, 2001-2010
URL:https://calenda-formation.labocleo.org/203616
DESCRIPTION:Les réalisations littéraires\, les modèles culturels\, les pratiques éditoriales ne cessent de bouger\, dans des directions et selon des logiques qu’il est souvent difficile d’appréhender. L'année 2011 semble être le moment opportun pour prendre une pre… @plus_info https://calenda-formation.labocleo.org/203616
LOCATION:Cerisy-la-Salle
END:VEVENT
BEGIN:VEVENT
DTSTART;VALUE=DATE:20110818
DTEND;VALUE=DATE:20110819
UID:203616-20110818@calenda.revues.org
SUMMARY:Narrations d'un nouveau siècle : romans et récits français\, 2001-2010
URL:https://calenda-formation.labocleo.org/203616
DESCRIPTION:Les réalisations littéraires\, les modèles culturels\, les pratiques éditoriales ne cessent de bouger\, dans des directions et selon des logiques qu’il est souvent difficile d’appréhender. L'année 2011 semble être le moment opportun pour prendre une pre… @plus_info https://calenda-formation.labocleo.org/203616
LOCATION:Cerisy-la-Salle
END:VEVENT
BEGIN:VEVENT
DTSTART;VALUE=DATE:20110819
DTEND;VALUE=DATE:20110820
UID:203616-20110819@calenda.revues.org
SUMMARY:Narrations d'un nouveau siècle : romans et récits français\, 2001-2010
URL:https://calenda-formation.labocleo.org/203616
DESCRIPTION:Les réalisations littéraires\, les modèles culturels\, les pratiques éditoriales ne cessent de bouger\, dans des directions et selon des logiques qu’il est souvent difficile d’appréhender. L'année 2011 semble être le moment opportun pour prendre une pre… @plus_info https://calenda-formation.labocleo.org/203616
LOCATION:Cerisy-la-Salle
END:VEVENT
BEGIN:VEVENT
DTSTART;VALUE=DATE:20110820
DTEND;VALUE=DATE:20110821
UID:203616-20110820@calenda.revues.org
SUMMARY:Narrations d'un nouveau siècle : romans et récits français\, 2001-2010
URL:https://calenda-formation.labocleo.org/203616
DESCRIPTION:Les réalisations littéraires\, les modèles culturels\, les pratiques éditoriales ne cessent de bouger\, dans des directions et selon des logiques qu’il est souvent difficile d’appréhender. L'année 2011 semble être le moment opportun pour prendre une pre… @plus_info https://calenda-formation.labocleo.org/203616
LOCATION:Cerisy-la-Salle
END:VEVENT
BEGIN:VEVENT
DTSTART;VALUE=DATE:20110821
DTEND;VALUE=DATE:20110822
UID:203616-20110821@calenda.revues.org
SUMMARY:Narrations d'un nouveau siècle : romans et récits français\, 2001-2010
URL:https://calenda-formation.labocleo.org/203616
DESCRIPTION:Les réalisations littéraires\, les modèles culturels\, les pratiques éditoriales ne cessent de bouger\, dans des directions et selon des logiques qu’il est souvent difficile d’appréhender. L'année 2011 semble être le moment opportun pour prendre une pre… @plus_info https://calenda-formation.labocleo.org/203616
LOCATION:Cerisy-la-Salle
END:VEVENT
BEGIN:VEVENT
DTSTART;VALUE=DATE:20110822
DTEND;VALUE=DATE:20110823
UID:203616-20110822@calenda.revues.org
SUMMARY:Narrations d'un nouveau siècle : romans et récits français\, 2001-2010
URL:https://calenda-formation.labocleo.org/203616
DESCRIPTION:Les réalisations littéraires\, les modèles culturels\, les pratiques éditoriales ne cessent de bouger\, dans des directions et selon des logiques qu’il est souvent difficile d’appréhender. L'année 2011 semble être le moment opportun pour prendre une pre… @plus_info https://calenda-formation.labocleo.org/203616
LOCATION:Cerisy-la-Salle
END:VEVENT
BEGIN:VEVENT
DTSTART;VALUE=DATE:20110823
DTEND;VALUE=DATE:20110824
UID:203616-20110823@calenda.revues.org
SUMMARY:Narrations d'un nouveau siècle : romans et récits français\, 2001-2010
URL:https://calenda-formation.labocleo.org/203616
DESCRIPTION:Les réalisations littéraires\, les modèles culturels\, les pratiques éditoriales ne cessent de bouger\, dans des directions et selon des logiques qu’il est souvent difficile d’appréhender. L'année 2011 semble être le moment opportun pour prendre une pre… @plus_info https://calenda-formation.labocleo.org/203616
LOCATION:Cerisy-la-Salle
END:VEVENT
END:VCALENDAR
