BEGIN:VCALENDAR
VERSION:2.0
PRODID:-//https://calenda-formation.labocleo.org
X-WR-CALNAME:Calenda
X-WR-TIMEZONE:Europe/Paris
CALSCALE:GREGORIAN
X-WR-CALDESC:Le calendrier des lettres et sciences humaines et sociales
METHOD:PUBLISH
BEGIN:VEVENT
DTSTART;VALUE=DATE:20110828
DTEND;VALUE=DATE:20110829
UID:203651-20110828@calenda.revues.org
SUMMARY:International and National Standardization and Differentiation of Education Systems from a Historical Perspective
URL:https://calenda-formation.labocleo.org/203651
DESCRIPTION:The general thesis of this conference is that the national and international standardizations\, the resistances to it\, and the development of regional particularities are mutually dependent. During the conference projects\, protagonists\, and effects of… Más informaciones https://calenda-formation.labocleo.org/203651
LOCATION:
END:VEVENT
BEGIN:VEVENT
DTSTART;VALUE=DATE:20110829
DTEND;VALUE=DATE:20110830
UID:203651-20110829@calenda.revues.org
SUMMARY:International and National Standardization and Differentiation of Education Systems from a Historical Perspective
URL:https://calenda-formation.labocleo.org/203651
DESCRIPTION:The general thesis of this conference is that the national and international standardizations\, the resistances to it\, and the development of regional particularities are mutually dependent. During the conference projects\, protagonists\, and effects of… Más informaciones https://calenda-formation.labocleo.org/203651
LOCATION:
END:VEVENT
BEGIN:VEVENT
DTSTART;VALUE=DATE:20110830
DTEND;VALUE=DATE:20110831
UID:203651-20110830@calenda.revues.org
SUMMARY:International and National Standardization and Differentiation of Education Systems from a Historical Perspective
URL:https://calenda-formation.labocleo.org/203651
DESCRIPTION:The general thesis of this conference is that the national and international standardizations\, the resistances to it\, and the development of regional particularities are mutually dependent. During the conference projects\, protagonists\, and effects of… Más informaciones https://calenda-formation.labocleo.org/203651
LOCATION:
END:VEVENT
BEGIN:VEVENT
DTSTART;VALUE=DATE:20110831
DTEND;VALUE=DATE:20110901
UID:203651-20110831@calenda.revues.org
SUMMARY:International and National Standardization and Differentiation of Education Systems from a Historical Perspective
URL:https://calenda-formation.labocleo.org/203651
DESCRIPTION:The general thesis of this conference is that the national and international standardizations\, the resistances to it\, and the development of regional particularities are mutually dependent. During the conference projects\, protagonists\, and effects of… Más informaciones https://calenda-formation.labocleo.org/203651
LOCATION:
END:VEVENT
BEGIN:VEVENT
DTSTART;VALUE=DATE:20110901
DTEND;VALUE=DATE:20110902
UID:203651-20110901@calenda.revues.org
SUMMARY:International and National Standardization and Differentiation of Education Systems from a Historical Perspective
URL:https://calenda-formation.labocleo.org/203651
DESCRIPTION:The general thesis of this conference is that the national and international standardizations\, the resistances to it\, and the development of regional particularities are mutually dependent. During the conference projects\, protagonists\, and effects of… Más informaciones https://calenda-formation.labocleo.org/203651
LOCATION:
END:VEVENT
BEGIN:VEVENT
DTSTART;VALUE=DATE:20110902
DTEND;VALUE=DATE:20110903
UID:203651-20110902@calenda.revues.org
SUMMARY:International and National Standardization and Differentiation of Education Systems from a Historical Perspective
URL:https://calenda-formation.labocleo.org/203651
DESCRIPTION:The general thesis of this conference is that the national and international standardizations\, the resistances to it\, and the development of regional particularities are mutually dependent. During the conference projects\, protagonists\, and effects of… Más informaciones https://calenda-formation.labocleo.org/203651
LOCATION:
END:VEVENT
END:VCALENDAR
