BEGIN:VCALENDAR
VERSION:2.0
PRODID:-//https://calenda-formation.labocleo.org
X-WR-CALNAME:Calenda
X-WR-TIMEZONE:Europe/Paris
CALSCALE:GREGORIAN
X-WR-CALDESC:The calendar for arts, humanities and social sciences
METHOD:PUBLISH
BEGIN:VEVENT
DTSTART;VALUE=DATE:20110331
DTEND;VALUE=DATE:20110401
UID:203665-20110331@calenda.revues.org
SUMMARY:Fernand Braudel – IFER Fellowships
URL:https://calenda-formation.labocleo.org/203665
DESCRIPTION:Le programme Fernand Braudel-IFER offre des bourses post-doctorales aux chercheurs en sciences humaines et sociales : 1) à l'intention de chercheurs étrangers pour effectuer des séjours de recherche en France et 2) à l'intention de chercheurs françai… @plus_info https://calenda-formation.labocleo.org/203665
LOCATION:
END:VEVENT
END:VCALENDAR
