BEGIN:VCALENDAR
VERSION:2.0
PRODID:-//https://calenda-formation.labocleo.org
X-WR-CALNAME:Calenda
X-WR-TIMEZONE:Europe/Paris
CALSCALE:GREGORIAN
X-WR-CALDESC:Le calendrier des lettres et sciences humaines et sociales
METHOD:PUBLISH
BEGIN:VEVENT
DTSTART;VALUE=DATE:20110607
DTEND;VALUE=DATE:20110608
UID:203683-20110607@calenda.revues.org
SUMMARY:Bénévolat\, militantisme\, engagement aujourd'hui : enjeux et défis
URL:https://calenda-formation.labocleo.org/203683
DESCRIPTION:La question du bénévolat\, du militantisme et de l’engagement mérite plus que jamais d’être posée dans le contexte actuel. Les constats sur l’engagement associatif\, militant\, syndical et politique entendus ici ou là ne sont pas d’un grand enthousiasme… @plus_info https://calenda-formation.labocleo.org/203683
LOCATION:Besançon
END:VEVENT
END:VCALENDAR
