BEGIN:VCALENDAR
VERSION:2.0
PRODID:-//https://calenda-formation.labocleo.org
X-WR-CALNAME:Calenda
X-WR-TIMEZONE:Europe/Paris
CALSCALE:GREGORIAN
X-WR-CALDESC:Le calendrier des lettres et sciences humaines et sociales
METHOD:PUBLISH
BEGIN:VEVENT
DTSTART;VALUE=DATE:20110515
DTEND;VALUE=DATE:20110516
UID:203696-20110515@calenda.revues.org
SUMMARY:La reconstruction des églises après les conflits de religion en Europe
URL:https://calenda-formation.labocleo.org/203696
DESCRIPTION:Pour la seconde année consécutive\, l'association Rencontre avec le patrimoine religieux poursuit sa réflexion sur les grands changements spirituels et artistiques qui marquèrent l'époque moderne. Après le colloque sur les « espaces du sacré entre Ren… Más informaciones https://calenda-formation.labocleo.org/203696
LOCATION:Poitiers
END:VEVENT
END:VCALENDAR
