BEGIN:VCALENDAR
VERSION:2.0
PRODID:-//https://calenda-formation.labocleo.org
X-WR-CALNAME:Calenda
X-WR-TIMEZONE:Europe/Paris
CALSCALE:GREGORIAN
X-WR-CALDESC:Le calendrier des lettres et sciences humaines et sociales
METHOD:PUBLISH
BEGIN:VEVENT
DTSTART;VALUE=DATE:20110407
DTEND;VALUE=DATE:20110408
UID:203716-20110407@calenda.revues.org
SUMMARY:La contractualisation du social
URL:https://calenda-formation.labocleo.org/203716
DESCRIPTION:L’usage de la notion de contrat dans le traitement des populations vulnérables et fragiles témoigne d’un  mouvement qui ne cesse de se renforcer : contrat unique d'insertion\,  contrat d'accueil et d'intégration\, contrat de responsabilité parentale\, c… @plus_info https://calenda-formation.labocleo.org/203716
LOCATION:Le Havre
END:VEVENT
END:VCALENDAR
