BEGIN:VCALENDAR
VERSION:2.0
PRODID:-//https://calenda-formation.labocleo.org
X-WR-CALNAME:Calenda
X-WR-TIMEZONE:Europe/Paris
CALSCALE:GREGORIAN
X-WR-CALDESC:Le calendrier des lettres et sciences humaines et sociales
METHOD:PUBLISH
BEGIN:VEVENT
DTSTART;VALUE=DATE:20110430
DTEND;VALUE=DATE:20110501
UID:203721-20110430@calenda.revues.org
SUMMARY:Le mouton\, de la domestication à l'élevage 
URL:https://calenda-formation.labocleo.org/203721
DESCRIPTION:La Société d'ethnozootechnie et l’association l'Homme et l'animal\, société de recherche interdisciplinaire (HASRI) organisent le jeudi 17 novembre 2011 une journée scientifique sur la thématique suivante : « le mouton\, de la domestication à l'élevage… @plus_info https://calenda-formation.labocleo.org/203721
LOCATION:Paris
END:VEVENT
END:VCALENDAR
