BEGIN:VCALENDAR
VERSION:2.0
PRODID:-//https://calenda-formation.labocleo.org
X-WR-CALNAME:Calenda
X-WR-TIMEZONE:Europe/Paris
CALSCALE:GREGORIAN
X-WR-CALDESC:The calendar for arts, humanities and social sciences
METHOD:PUBLISH
BEGIN:VEVENT
DTSTART;VALUE=DATE:20110430
DTEND;VALUE=DATE:20110501
UID:203780-20110430@calenda.revues.org
SUMMARY:CNFG study days: the commission for the geography of the sea\, coast and isles
URL:https://calenda-formation.labocleo.org/203780
DESCRIPTION:La commission de géographie de la mer\, des côtes et des îles\, émanation du Comité national français de géographie\, vise à réunir chaque année les géographes littoralistes français – enseignants-chercheurs\, chercheurs\, doctorants et désormais professi… @plus_info https://calenda-formation.labocleo.org/203780
LOCATION:Brest
END:VEVENT
END:VCALENDAR
