BEGIN:VCALENDAR
VERSION:2.0
PRODID:-//https://calenda-formation.labocleo.org
X-WR-CALNAME:Calenda
X-WR-TIMEZONE:Europe/Paris
CALSCALE:GREGORIAN
X-WR-CALDESC:The calendar for arts, humanities and social sciences
METHOD:PUBLISH
BEGIN:VEVENT
DTSTART;VALUE=DATE:20110408
DTEND;VALUE=DATE:20110409
UID:203826-20110408@calenda.revues.org
SUMMARY:Discours d’experts\, discours d’expertise
URL:https://calenda-formation.labocleo.org/203826
DESCRIPTION:La journée d'études du 8 avril 2011 illustre la façon dont des approches discursives\, portées aussi bien en sciences du langage qu’en sciences de l’information et de la communication\, sont à même d’appréhender certains aspects de la question de l’« e… @plus_info https://calenda-formation.labocleo.org/203826
LOCATION:Créteil
END:VEVENT
END:VCALENDAR
